{
 "version": 1.0,
 "tileBundlesPath": "./tile",
 "tileInfo": {
  "spatialReference": {
   "wkid": 102100,
   "latestWkid": 3857
  },
  "origin": {
   "x": -20037700,
   "y": 30241100
  },
  "rows": 256,
  "cols": 256,
  "dpi": 96,
  "lods": [
   {
    "level": 0,
    "resolution": 19567.87924099992,
    "scale": 7.3957190948944E7
   },
   {
    "level": 1,
    "resolution": 9783.93962049996,
    "scale": 3.6978595474472E7
   },
   {
    "level": 2,
    "resolution": 4891.96981024998,
    "scale": 1.8489297737236E7
   },
   {
    "level": 3,
    "resolution": 2445.98490512499,
    "scale": 9244648.868618
   },
   {
    "level": 4,
    "resolution": 1222.992452562495,
    "scale": 4622324.434309
   },
   {
    "level": 5,
    "resolution": 611.4962262813797,
    "scale": 2311162.217155
   },
   {
    "level": 6,
    "resolution": 305.74811314055756,
    "scale": 1155581.108577
   },
   {
    "level": 7,
    "resolution": 152.87405657041106,
    "scale": 577790.554289
   },
   {
    "level": 8,
    "resolution": 76.43702828507324,
    "scale": 288895.277144
   },
   {
    "level": 9,
    "resolution": 38.21851414253662,
    "scale": 144447.638572
   },
   {
    "level": 10,
    "resolution": 19.10925707126831,
    "scale": 72223.819286
   },
   {
    "level": 11,
    "resolution": 9.554628535634155,
    "scale": 36111.909643
   },
   {
    "level": 12,
    "resolution": 4.77731426794937,
    "scale": 18055.954822
   },
   {
    "level": 13,
    "resolution": 2.388657133974685,
    "scale": 9027.977411
   },
   {
    "level": 14,
    "resolution": 1.1943285668550503,
    "scale": 4513.988705
   },
   {
    "level": 15,
    "resolution": 0.5971642835598172,
    "scale": 2256.994353
   },
   {
    "level": 16,
    "resolution": 0.29858214164761665,
    "scale": 1128.497176
   },
   {
    "level": 17,
    "resolution": 0.14929107082380833,
    "scale": 564.248588
   }
  ],
  "format": "MIXED",
  "compressionQuality": 75,
  "bandCount": 1,
  "lercError": 0,
  "storageFormat": "esriMapCacheStorageModeCompactV2",
  "packetSize": 128
 },
 "storageInfo": {
  "packetSize": 128,
  "storageFormat": "esriMapCacheStorageModeCompactV2"
 },
 "tileImageInfo": {
  "format": "MIXED",
  "compressionQuality": 75,
  "bandCount": 1,
  "lercError": 0
 },
 "name": "Airphoto2024",
 "minLOD": 0,
 "maxLOD": 17,
 "spatialReference": {
  "wkid": 102100,
  "latestWkid": 3857
 },
 "units": "esriMeters",
 "serviceDescription": "",
 "resampling": true,
 "initialExtent": {
  "xmin": -1.2127632343839318E7,
  "ymin": 4716373.871476668,
  "xmax": -1.201520377635011E7,
  "ymax": 4769880.985588487,
  "spatialReference": {
   "wkid": 102100,
   "latestWkid": 3857
  }
 },
 "fullExtent": {
  "xmin": -1.2127632343839318E7,
  "ymin": 4716373.871476668,
  "xmax": -1.201520377635011E7,
  "ymax": 4769880.985588487,
  "spatialReference": {
   "wkid": 102100,
   "latestWkid": 3857
  }
 },
 "minScale": 7.3957190948944E7,
 "maxScale": 564.248588,
 "exportTilesAllowed": false,
 "maxExportTilesCount": 0,
 "currentVersion": 11.5,
 "mapName": "Airphoto2024",
 "singleFusedMapCache": true,
 "type": "MapServer",
 "supportedExtensions": "",
 "capabilities": "TilesOnly,Tilemap",
 "serviceItemId": "07e5bb626c2d495896907705aafd052a"
}
